BEGIN:VCALENDAR
VERSION:2.0
PRODID:-//First Baptist Church Penticton - ECPv6.2.3.1//NONSGML v1.0//EN
CALSCALE:GREGORIAN
METHOD:PUBLISH
X-WR-CALNAME:First Baptist Church Penticton
X-ORIGINAL-URL:https://fbcpenticton.com
X-WR-CALDESC:Events for First Baptist Church Penticton
REFRESH-INTERVAL;VALUE=DURATION:PT1H
X-Robots-Tag:noindex
X-PUBLISHED-TTL:PT1H
BEGIN:VTIMEZONE
TZID:America/Vancouver
BEGIN:DAYLIGHT
TZOFFSETFROM:-0800
TZOFFSETTO:-0700
TZNAME:PDT
DTSTART:20160313T100000
END:DAYLIGHT
BEGIN:STANDARD
TZOFFSETFROM:-0700
TZOFFSETTO:-0800
TZNAME:PST
DTSTART:20161106T090000
END:STANDARD
BEGIN:DAYLIGHT
TZOFFSETFROM:-0800
TZOFFSETTO:-0700
TZNAME:PDT
DTSTART:20170312T100000
END:DAYLIGHT
BEGIN:STANDARD
TZOFFSETFROM:-0700
TZOFFSETTO:-0800
TZNAME:PST
DTSTART:20171105T090000
END:STANDARD
END:VTIMEZONE
BEGIN:VEVENT
DTSTART;TZID=America/Vancouver:20170920T103000
DTEND;TZID=America/Vancouver:20170920T120000
DTSTAMP:20260425T174634
CREATED:20170906T183031Z
LAST-MODIFIED:20170906T183132Z
UID:642-1505903400-1505908800@fbcpenticton.com
SUMMARY:Growth Groups Starting
DESCRIPTION:We are excited about the work that has started in our sanctuary. New carpet was installed in August 2021 and we are preparing to renovate our stage in the spring of 2022. We currently have 100 black chairs but hope to purchase 150 more this year.  This project will move forward as donations come in to fund the purchasing of stage materials and chairs. If you would like to make a donation to purchase a chair or a few chairs you can donate by marking your envelope “Building Fund” or make a donation online by selecting “Building Fund”.Thank you for your support and we look forward to seeing you in one of these chairs soon.
URL:https://fbcpenticton.com/event/growth-groups-starting/
LOCATION:First Baptist Church\, 1498 Government Street\, Penticton\, BC\, Canada
CATEGORIES:Current Events
ATTACH;FMTTYPE=image/jpeg:https://fbcpenticton.com/wp-content/uploads/2017/09/48016_Community-e1504722527881.jpg
END:VEVENT
BEGIN:VEVENT
DTSTART;TZID=America/Vancouver:20170910T103000
DTEND;TZID=America/Vancouver:20170910T120000
DTSTAMP:20260425T174634
CREATED:20170731T212326Z
LAST-MODIFIED:20170906T180818Z
UID:614-1505039400-1505044800@fbcpenticton.com
SUMMARY:Kids' Church in September
DESCRIPTION:We are excited about the work that has started in our sanctuary. New carpet was installed in August 2021 and we are preparing to renovate our stage in the spring of 2022. We currently have 100 black chairs but hope to purchase 150 more this year.  This project will move forward as donations come in to fund the purchasing of stage materials and chairs. If you would like to make a donation to purchase a chair or a few chairs you can donate by marking your envelope “Building Fund” or make a donation online by selecting “Building Fund”.Thank you for your support and we look forward to seeing you in one of these chairs soon.
URL:https://fbcpenticton.com/event/kids-church-in-august/
LOCATION:First Baptist Church\, 1498 Government Street\, Penticton\, BC\, Canada
CATEGORIES:Current Events
ATTACH;FMTTYPE=image/png:https://fbcpenticton.com/wp-content/uploads/2016/10/Kids-Church2-e1501536092925.png
END:VEVENT
BEGIN:VEVENT
DTSTART;TZID=America/Vancouver:20170704T190000
DTEND;TZID=America/Vancouver:20170704T210000
DTSTAMP:20260425T174634
CREATED:20170614T192539Z
LAST-MODIFIED:20170614T192539Z
UID:587-1499194800-1499202000@fbcpenticton.com
SUMMARY:Prayer Triplet Gathering
DESCRIPTION:We are excited about the work that has started in our sanctuary. New carpet was installed in August 2021 and we are preparing to renovate our stage in the spring of 2022. We currently have 100 black chairs but hope to purchase 150 more this year.  This project will move forward as donations come in to fund the purchasing of stage materials and chairs. If you would like to make a donation to purchase a chair or a few chairs you can donate by marking your envelope “Building Fund” or make a donation online by selecting “Building Fund”.Thank you for your support and we look forward to seeing you in one of these chairs soon.
URL:https://fbcpenticton.com/event/prayer-triplet-gathering-2/
LOCATION:First Baptist Church\, 1498 Government Street\, Penticton\, BC\, Canada
CATEGORIES:Current Events
ATTACH;FMTTYPE=image/jpeg:https://fbcpenticton.com/wp-content/uploads/2016/12/Prayer-e1482075739456.jpg
END:VEVENT
BEGIN:VEVENT
DTSTART;TZID=America/Vancouver:20170702T110000
DTEND;TZID=America/Vancouver:20170730T120000
DTSTAMP:20260425T174634
CREATED:20170626T184309Z
LAST-MODIFIED:20170626T184309Z
UID:591-1498993200-1501416000@fbcpenticton.com
SUMMARY:Summer Kids' Church - All About the Body
DESCRIPTION:We are excited about the work that has started in our sanctuary. New carpet was installed in August 2021 and we are preparing to renovate our stage in the spring of 2022. We currently have 100 black chairs but hope to purchase 150 more this year.  This project will move forward as donations come in to fund the purchasing of stage materials and chairs. If you would like to make a donation to purchase a chair or a few chairs you can donate by marking your envelope “Building Fund” or make a donation online by selecting “Building Fund”.Thank you for your support and we look forward to seeing you in one of these chairs soon.
URL:https://fbcpenticton.com/event/summer-kids-church-all-about-the-body/
LOCATION:First Baptist Church\, 1498 Government Street\, Penticton\, BC\, Canada
CATEGORIES:Current Events
ATTACH;FMTTYPE=image/jpeg:https://fbcpenticton.com/wp-content/uploads/2017/06/hand_prints-e1498502644695.jpg
END:VEVENT
BEGIN:VEVENT
DTSTART;TZID=America/Vancouver:20170625T103000
DTEND;TZID=America/Vancouver:20170625T120000
DTSTAMP:20260425T174634
CREATED:20170530T205608Z
LAST-MODIFIED:20170609T011729Z
UID:540-1498386600-1498392000@fbcpenticton.com
SUMMARY:Graduation Sunday
DESCRIPTION:We are excited about the work that has started in our sanctuary. New carpet was installed in August 2021 and we are preparing to renovate our stage in the spring of 2022. We currently have 100 black chairs but hope to purchase 150 more this year.  This project will move forward as donations come in to fund the purchasing of stage materials and chairs. If you would like to make a donation to purchase a chair or a few chairs you can donate by marking your envelope “Building Fund” or make a donation online by selecting “Building Fund”.Thank you for your support and we look forward to seeing you in one of these chairs soon.
URL:https://fbcpenticton.com/event/graduation-sunday/
LOCATION:First Baptist Church\, 1498 Government Street\, Penticton\, BC\, Canada
CATEGORIES:Current Events
ATTACH;FMTTYPE=image/jpeg:https://fbcpenticton.com/wp-content/uploads/2017/05/th-e1496971022324.jpg
END:VEVENT
BEGIN:VEVENT
DTSTART;TZID=America/Vancouver:20170624T100000
DTEND;TZID=America/Vancouver:20170624T233000
DTSTAMP:20260425T174634
CREATED:20170606T210157Z
LAST-MODIFIED:20170606T210840Z
UID:557-1498298400-1498347000@fbcpenticton.com
SUMMARY:Garden Walk @ Linden Gardens
DESCRIPTION:We are excited about the work that has started in our sanctuary. New carpet was installed in August 2021 and we are preparing to renovate our stage in the spring of 2022. We currently have 100 black chairs but hope to purchase 150 more this year.  This project will move forward as donations come in to fund the purchasing of stage materials and chairs. If you would like to make a donation to purchase a chair or a few chairs you can donate by marking your envelope “Building Fund” or make a donation online by selecting “Building Fund”.Thank you for your support and we look forward to seeing you in one of these chairs soon.
URL:https://fbcpenticton.com/event/garden-walk-linden-gardens/
LOCATION:Linden Gardens
CATEGORIES:Current Events
ATTACH;FMTTYPE=image/jpeg:https://fbcpenticton.com/wp-content/uploads/2017/06/28737_Spring-e1496970870944.jpg
END:VEVENT
BEGIN:VEVENT
DTSTART;TZID=America/Vancouver:20170623T190000
DTEND;TZID=America/Vancouver:20170623T203000
DTSTAMP:20260425T174634
CREATED:20170609T012717Z
LAST-MODIFIED:20170614T192142Z
UID:577-1498244400-1498249800@fbcpenticton.com
SUMMARY:Picnic in the Park
DESCRIPTION:We are excited about the work that has started in our sanctuary. New carpet was installed in August 2021 and we are preparing to renovate our stage in the spring of 2022. We currently have 100 black chairs but hope to purchase 150 more this year.  This project will move forward as donations come in to fund the purchasing of stage materials and chairs. If you would like to make a donation to purchase a chair or a few chairs you can donate by marking your envelope “Building Fund” or make a donation online by selecting “Building Fund”.Thank you for your support and we look forward to seeing you in one of these chairs soon.
URL:https://fbcpenticton.com/event/picnic-in-the-park/
CATEGORIES:Current Events
ATTACH;FMTTYPE=image/png:https://fbcpenticton.com/wp-content/uploads/2017/06/CITY-WIDE-FINAL-INSTA-e1496971696148.png
END:VEVENT
BEGIN:VEVENT
DTSTART;TZID=America/Vancouver:20170613T170000
DTEND;TZID=America/Vancouver:20170613T180000
DTSTAMP:20260425T174635
CREATED:20170530T210030Z
LAST-MODIFIED:20170606T210953Z
UID:546-1497373200-1497376800@fbcpenticton.com
SUMMARY:Year End BBQ - for After School Club
DESCRIPTION:We are excited about the work that has started in our sanctuary. New carpet was installed in August 2021 and we are preparing to renovate our stage in the spring of 2022. We currently have 100 black chairs but hope to purchase 150 more this year.  This project will move forward as donations come in to fund the purchasing of stage materials and chairs. If you would like to make a donation to purchase a chair or a few chairs you can donate by marking your envelope “Building Fund” or make a donation online by selecting “Building Fund”.Thank you for your support and we look forward to seeing you in one of these chairs soon.
URL:https://fbcpenticton.com/event/year-end-party-for-after-school-club/
LOCATION:First Baptist Church\, 1498 Government Street\, Penticton\, BC\, Canada
CATEGORIES:Current Events
ATTACH;FMTTYPE=image/jpeg:https://fbcpenticton.com/wp-content/uploads/2017/05/picnic.jpg
END:VEVENT
BEGIN:VEVENT
DTSTART;TZID=America/Vancouver:20170603T080000
DTEND;TZID=America/Vancouver:20170603T120000
DTSTAMP:20260425T174635
CREATED:20170511T190756Z
LAST-MODIFIED:20170511T190833Z
UID:513-1496476800-1496491200@fbcpenticton.com
SUMMARY:Annual Garage Sale
DESCRIPTION:We are excited about the work that has started in our sanctuary. New carpet was installed in August 2021 and we are preparing to renovate our stage in the spring of 2022. We currently have 100 black chairs but hope to purchase 150 more this year.  This project will move forward as donations come in to fund the purchasing of stage materials and chairs. If you would like to make a donation to purchase a chair or a few chairs you can donate by marking your envelope “Building Fund” or make a donation online by selecting “Building Fund”.Thank you for your support and we look forward to seeing you in one of these chairs soon.
URL:https://fbcpenticton.com/event/annual-garage-sale/
LOCATION:First Baptist Church\, 1498 Government Street\, Penticton\, BC\, Canada
CATEGORIES:Current Events
ATTACH;FMTTYPE=image/jpeg:https://fbcpenticton.com/wp-content/uploads/2016/12/35258_Pinwheels_Upcoming-e1504125392525.jpg
ORGANIZER;CN="Church Office":MAILTO:fbcpenticton@telus.net
END:VEVENT
BEGIN:VEVENT
DTSTART;TZID=America/Vancouver:20170528T120000
DTEND;TZID=America/Vancouver:20170528T133000
DTSTAMP:20260425T174635
CREATED:20170511T191233Z
LAST-MODIFIED:20170511T191233Z
UID:516-1495972800-1495978200@fbcpenticton.com
SUMMARY:Spring Meeting and BBQ
DESCRIPTION:We are excited about the work that has started in our sanctuary. New carpet was installed in August 2021 and we are preparing to renovate our stage in the spring of 2022. We currently have 100 black chairs but hope to purchase 150 more this year.  This project will move forward as donations come in to fund the purchasing of stage materials and chairs. If you would like to make a donation to purchase a chair or a few chairs you can donate by marking your envelope “Building Fund” or make a donation online by selecting “Building Fund”.Thank you for your support and we look forward to seeing you in one of these chairs soon.
URL:https://fbcpenticton.com/event/spring-meeting-and-bbq/
LOCATION:First Baptist Church\, 1498 Government Street\, Penticton\, BC\, Canada
CATEGORIES:Current Events
ATTACH;FMTTYPE=image/jpeg:https://fbcpenticton.com/wp-content/uploads/2017/05/MP900422789-640x640-e1497467066630.jpg
ORGANIZER;CN="Church Office":MAILTO:fbcpenticton@telus.net
END:VEVENT
BEGIN:VEVENT
DTSTART;TZID=America/Vancouver:20170515T190000
DTEND;TZID=America/Vancouver:20170515T210000
DTSTAMP:20260425T174635
CREATED:20170425T185511Z
LAST-MODIFIED:20170425T185511Z
UID:478-1494874800-1494882000@fbcpenticton.com
SUMMARY:Prayer Triplet Gathering
DESCRIPTION:We are excited about the work that has started in our sanctuary. New carpet was installed in August 2021 and we are preparing to renovate our stage in the spring of 2022. We currently have 100 black chairs but hope to purchase 150 more this year.  This project will move forward as donations come in to fund the purchasing of stage materials and chairs. If you would like to make a donation to purchase a chair or a few chairs you can donate by marking your envelope “Building Fund” or make a donation online by selecting “Building Fund”.Thank you for your support and we look forward to seeing you in one of these chairs soon.
URL:https://fbcpenticton.com/event/prayer-triplet-gathering/
CATEGORIES:Current Events
ATTACH;FMTTYPE=image/jpeg:https://fbcpenticton.com/wp-content/uploads/2016/12/Prayer-e1482075739456.jpg
END:VEVENT
BEGIN:VEVENT
DTSTART;TZID=America/Vancouver:20170506T130000
DTEND;TZID=America/Vancouver:20170506T160000
DTSTAMP:20260425T174635
CREATED:20170425T185347Z
LAST-MODIFIED:20170425T185347Z
UID:474-1494075600-1494086400@fbcpenticton.com
SUMMARY:Women's Ministry - Spa Afternoon
DESCRIPTION:We are excited about the work that has started in our sanctuary. New carpet was installed in August 2021 and we are preparing to renovate our stage in the spring of 2022. We currently have 100 black chairs but hope to purchase 150 more this year.  This project will move forward as donations come in to fund the purchasing of stage materials and chairs. If you would like to make a donation to purchase a chair or a few chairs you can donate by marking your envelope “Building Fund” or make a donation online by selecting “Building Fund”.Thank you for your support and we look forward to seeing you in one of these chairs soon.
URL:https://fbcpenticton.com/event/womens-ministry-spa-afternoon/
LOCATION:The Ark Youth Center\, Basement - 1498 Government Street\, Penticton\, BC\, Canada
CATEGORIES:Current Events
ATTACH;FMTTYPE=image/jpeg:https://fbcpenticton.com/wp-content/uploads/2017/04/15750.jpg
END:VEVENT
BEGIN:VEVENT
DTSTART;TZID=America/Vancouver:20170506T083000
DTEND;TZID=America/Vancouver:20170506T090000
DTSTAMP:20260425T174635
CREATED:20170425T184824Z
LAST-MODIFIED:20170425T184824Z
UID:472-1494059400-1494061200@fbcpenticton.com
SUMMARY:Men's Breakfast
DESCRIPTION:We are excited about the work that has started in our sanctuary. New carpet was installed in August 2021 and we are preparing to renovate our stage in the spring of 2022. We currently have 100 black chairs but hope to purchase 150 more this year.  This project will move forward as donations come in to fund the purchasing of stage materials and chairs. If you would like to make a donation to purchase a chair or a few chairs you can donate by marking your envelope “Building Fund” or make a donation online by selecting “Building Fund”.Thank you for your support and we look forward to seeing you in one of these chairs soon.
URL:https://fbcpenticton.com/event/mens-breakfast-2/
LOCATION:Shade’s on Main\, 1909 Main Street\, Penticton\, bc\, V2A 5H5\, Canada
CATEGORIES:Current Events
ATTACH;FMTTYPE=image/jpeg:https://fbcpenticton.com/wp-content/uploads/2016/08/mens-breakfast3-CoisHH-clipart-e1482894297432.jpg
END:VEVENT
BEGIN:VEVENT
DTSTART;TZID=America/Vancouver:20170401T130000
DTEND;TZID=America/Vancouver:20170401T150000
DTSTAMP:20260425T174635
CREATED:20170320T202650Z
LAST-MODIFIED:20170320T202650Z
UID:441-1491051600-1491058800@fbcpenticton.com
SUMMARY:Okanagan Gleaners Open House
DESCRIPTION:We are excited about the work that has started in our sanctuary. New carpet was installed in August 2021 and we are preparing to renovate our stage in the spring of 2022. We currently have 100 black chairs but hope to purchase 150 more this year.  This project will move forward as donations come in to fund the purchasing of stage materials and chairs. If you would like to make a donation to purchase a chair or a few chairs you can donate by marking your envelope “Building Fund” or make a donation online by selecting “Building Fund”.Thank you for your support and we look forward to seeing you in one of these chairs soon.
URL:https://fbcpenticton.com/event/okanagan-gleaners-open-house/
LOCATION:Okanagan Gleaners\, 507 No. 3 Road\, Oliver\, BC\, Canada
CATEGORIES:Current Events
ATTACH;FMTTYPE=image/jpeg:https://fbcpenticton.com/wp-content/uploads/2016/10/youre-invited-web.jpg
END:VEVENT
BEGIN:VEVENT
DTSTART;TZID=America/Vancouver:20170401T083000
DTEND;TZID=America/Vancouver:20170401T213000
DTSTAMP:20260425T174635
CREATED:20170320T202347Z
LAST-MODIFIED:20170320T202347Z
UID:439-1491035400-1491082200@fbcpenticton.com
SUMMARY:Men's Prayer Breakfast
DESCRIPTION:We are excited about the work that has started in our sanctuary. New carpet was installed in August 2021 and we are preparing to renovate our stage in the spring of 2022. We currently have 100 black chairs but hope to purchase 150 more this year.  This project will move forward as donations come in to fund the purchasing of stage materials and chairs. If you would like to make a donation to purchase a chair or a few chairs you can donate by marking your envelope “Building Fund” or make a donation online by selecting “Building Fund”.Thank you for your support and we look forward to seeing you in one of these chairs soon.
URL:https://fbcpenticton.com/event/mens-prayer-breakfast/
LOCATION:Shade’s on Main\, 1909 Main Street\, Penticton\, bc\, V2A 5H5\, Canada
CATEGORIES:Current Events
ATTACH;FMTTYPE=image/jpeg:https://fbcpenticton.com/wp-content/uploads/2016/08/mens-breakfast3-CoisHH-clipart-e1482894297432.jpg
END:VEVENT
BEGIN:VEVENT
DTSTART;TZID=America/Vancouver:20170318T083000
DTEND;TZID=America/Vancouver:20170318T093000
DTSTAMP:20260425T174635
CREATED:20170307T205317Z
LAST-MODIFIED:20170307T205317Z
UID:404-1489825800-1489829400@fbcpenticton.com
SUMMARY:Men's Breakfast
DESCRIPTION:We are excited about the work that has started in our sanctuary. New carpet was installed in August 2021 and we are preparing to renovate our stage in the spring of 2022. We currently have 100 black chairs but hope to purchase 150 more this year.  This project will move forward as donations come in to fund the purchasing of stage materials and chairs. If you would like to make a donation to purchase a chair or a few chairs you can donate by marking your envelope “Building Fund” or make a donation online by selecting “Building Fund”.Thank you for your support and we look forward to seeing you in one of these chairs soon.
URL:https://fbcpenticton.com/event/mens-breakfast/
LOCATION:Shade’s on Main\, 1909 Main Street\, Penticton\, bc\, V2A 5H5\, Canada
CATEGORIES:Current Events
ATTACH;FMTTYPE=image/jpeg:https://fbcpenticton.com/wp-content/uploads/2016/08/mens-breakfast3-CoisHH-clipart-e1482894297432.jpg
ORGANIZER;CN="Church Office":MAILTO:fbcpenticton@telus.net
END:VEVENT
BEGIN:VEVENT
DTSTART;TZID=America/Vancouver:20170311T190000
DTEND;TZID=America/Vancouver:20170311T210000
DTSTAMP:20260425T174635
CREATED:20170308T231645Z
LAST-MODIFIED:20170308T231806Z
UID:415-1489258800-1489266000@fbcpenticton.com
SUMMARY:Beyond Youth Group - Taco Night
DESCRIPTION:We are excited about the work that has started in our sanctuary. New carpet was installed in August 2021 and we are preparing to renovate our stage in the spring of 2022. We currently have 100 black chairs but hope to purchase 150 more this year.  This project will move forward as donations come in to fund the purchasing of stage materials and chairs. If you would like to make a donation to purchase a chair or a few chairs you can donate by marking your envelope “Building Fund” or make a donation online by selecting “Building Fund”.Thank you for your support and we look forward to seeing you in one of these chairs soon.
URL:https://fbcpenticton.com/event/beyond-youth-group-taco-night/
LOCATION:The Ark Youth Center\, Basement - 1498 Government Street\, Penticton\, BC\, Canada
CATEGORIES:Current Events
ATTACH;FMTTYPE=image/jpeg:https://fbcpenticton.com/wp-content/uploads/2016/10/beyond-3-e1482887479207.jpg
ORGANIZER;CN="Church Office":MAILTO:fbcpenticton@telus.net
END:VEVENT
BEGIN:VEVENT
DTSTART;TZID=America/Vancouver:20170211T180000
DTEND;TZID=America/Vancouver:20170211T210000
DTSTAMP:20260425T174635
CREATED:20170117T214204Z
LAST-MODIFIED:20170117T214204Z
UID:368-1486836000-1486846800@fbcpenticton.com
SUMMARY:Family Hockey Night
DESCRIPTION:We are excited about the work that has started in our sanctuary. New carpet was installed in August 2021 and we are preparing to renovate our stage in the spring of 2022. We currently have 100 black chairs but hope to purchase 150 more this year.  This project will move forward as donations come in to fund the purchasing of stage materials and chairs. If you would like to make a donation to purchase a chair or a few chairs you can donate by marking your envelope “Building Fund” or make a donation online by selecting “Building Fund”.Thank you for your support and we look forward to seeing you in one of these chairs soon.
URL:https://fbcpenticton.com/event/family-hockey-night/
LOCATION:SOEC\, 853 Eckhardt Ave.\, Penticton\, BC\, V2A 9C4\, Canada
END:VEVENT
BEGIN:VEVENT
DTSTART;TZID=America/Vancouver:20170121T083000
DTEND;TZID=America/Vancouver:20170121T093000
DTSTAMP:20260425T174635
CREATED:20170110T213842Z
LAST-MODIFIED:20170110T213908Z
UID:359-1484987400-1484991000@fbcpenticton.com
SUMMARY:Men's Fellowship Breakfast
DESCRIPTION:We are excited about the work that has started in our sanctuary. New carpet was installed in August 2021 and we are preparing to renovate our stage in the spring of 2022. We currently have 100 black chairs but hope to purchase 150 more this year.  This project will move forward as donations come in to fund the purchasing of stage materials and chairs. If you would like to make a donation to purchase a chair or a few chairs you can donate by marking your envelope “Building Fund” or make a donation online by selecting “Building Fund”.Thank you for your support and we look forward to seeing you in one of these chairs soon.
URL:https://fbcpenticton.com/event/mens-fellowship-breakfast-2/
LOCATION:Shade’s on Main\, 1909 Main Street\, Penticton\, bc\, V2A 5H5\, Canada
CATEGORIES:Current Events
ATTACH;FMTTYPE=image/jpeg:https://fbcpenticton.com/wp-content/uploads/2016/08/mens-breakfast3-CoisHH-clipart-e1482894297432.jpg
END:VEVENT
BEGIN:VEVENT
DTSTART;TZID=America/Vancouver:20170107T083000
DTEND;TZID=America/Vancouver:20170107T093000
DTSTAMP:20260425T174635
CREATED:20161228T192538Z
LAST-MODIFIED:20170104T001022Z
UID:326-1483777800-1483781400@fbcpenticton.com
SUMMARY:Men's Fellowship Breakfast
DESCRIPTION:We are excited about the work that has started in our sanctuary. New carpet was installed in August 2021 and we are preparing to renovate our stage in the spring of 2022. We currently have 100 black chairs but hope to purchase 150 more this year.  This project will move forward as donations come in to fund the purchasing of stage materials and chairs. If you would like to make a donation to purchase a chair or a few chairs you can donate by marking your envelope “Building Fund” or make a donation online by selecting “Building Fund”.Thank you for your support and we look forward to seeing you in one of these chairs soon.
URL:https://fbcpenticton.com/event/mens-fellowship-breakfast/
LOCATION:Shade’s on Main\, 1909 Main Street\, Penticton\, bc\, V2A 5H5\, Canada
CATEGORIES:Current Events
ATTACH;FMTTYPE=image/jpeg:https://fbcpenticton.com/wp-content/uploads/2016/08/mens-breakfast3-CoisHH-clipart-e1482894297432.jpg
END:VEVENT
BEGIN:VEVENT
DTSTART;TZID=America/Vancouver:20170104T100000
DTEND;TZID=America/Vancouver:20170104T110000
DTSTAMP:20260425T174635
CREATED:20161228T191702Z
LAST-MODIFIED:20161228T192602Z
UID:321-1483524000-1483527600@fbcpenticton.com
SUMMARY:Middlers Coffee
DESCRIPTION:We are excited about the work that has started in our sanctuary. New carpet was installed in August 2021 and we are preparing to renovate our stage in the spring of 2022. We currently have 100 black chairs but hope to purchase 150 more this year.  This project will move forward as donations come in to fund the purchasing of stage materials and chairs. If you would like to make a donation to purchase a chair or a few chairs you can donate by marking your envelope “Building Fund” or make a donation online by selecting “Building Fund”.Thank you for your support and we look forward to seeing you in one of these chairs soon.
URL:https://fbcpenticton.com/event/middlers-coffee/
LOCATION:First Baptist Lounge
CATEGORIES:Current Events
ATTACH;FMTTYPE=image/jpeg:https://fbcpenticton.com/wp-content/uploads/2016/12/coffee.jpg
END:VEVENT
BEGIN:VEVENT
DTSTART;TZID=America/Vancouver:20161231T200000
DTEND;TZID=America/Vancouver:20161231T200000
DTSTAMP:20260425T174635
CREATED:20161225T000525Z
LAST-MODIFIED:20161225T003053Z
UID:304-1483214400-1483214400@fbcpenticton.com
SUMMARY:New Years Eve Party
DESCRIPTION:We are excited about the work that has started in our sanctuary. New carpet was installed in August 2021 and we are preparing to renovate our stage in the spring of 2022. We currently have 100 black chairs but hope to purchase 150 more this year.  This project will move forward as donations come in to fund the purchasing of stage materials and chairs. If you would like to make a donation to purchase a chair or a few chairs you can donate by marking your envelope “Building Fund” or make a donation online by selecting “Building Fund”.Thank you for your support and we look forward to seeing you in one of these chairs soon.
URL:https://fbcpenticton.com/event/new-years-eve-party/
LOCATION:The Ark Youth Center\, Basement - 1498 Government Street\, Penticton\, BC\, Canada
CATEGORIES:Current Events
ATTACH;FMTTYPE=image/png:https://fbcpenticton.com/wp-content/uploads/2016/12/new-year.png
ORGANIZER;CN="Church Office":MAILTO:fbcpenticton@telus.net
END:VEVENT
BEGIN:VEVENT
DTSTART;TZID=America/Vancouver:20161224T190000
DTEND;TZID=America/Vancouver:20161224T200000
DTSTAMP:20260425T174635
CREATED:20161225T000028Z
LAST-MODIFIED:20161225T000028Z
UID:301-1482606000-1482609600@fbcpenticton.com
SUMMARY:Christmas Eve Candle Light Service
DESCRIPTION:We are excited about the work that has started in our sanctuary. New carpet was installed in August 2021 and we are preparing to renovate our stage in the spring of 2022. We currently have 100 black chairs but hope to purchase 150 more this year.  This project will move forward as donations come in to fund the purchasing of stage materials and chairs. If you would like to make a donation to purchase a chair or a few chairs you can donate by marking your envelope “Building Fund” or make a donation online by selecting “Building Fund”.Thank you for your support and we look forward to seeing you in one of these chairs soon.
URL:https://fbcpenticton.com/event/christmas-eve-candle-light-service/
LOCATION:First Baptist Sanctuary\, 1498 Government St\, Penticton\, BC\, V2A 4W1\, Canada
CATEGORIES:Current Events
ATTACH;FMTTYPE=image/jpeg:https://fbcpenticton.com/wp-content/uploads/2016/12/mary-2-e1482113592967.jpg
ORGANIZER;CN="Church Office":MAILTO:fbcpenticton@telus.net
END:VEVENT
BEGIN:VEVENT
DTSTART;TZID=America/Vancouver:20161221T090000
DTEND;TZID=America/Vancouver:20161221T110000
DTSTAMP:20260425T174635
CREATED:20161218T153347Z
LAST-MODIFIED:20161218T163348Z
UID:184-1482310800-1482318000@fbcpenticton.com
SUMMARY:Prayer Meeting - All Welcome
DESCRIPTION:We are excited about the work that has started in our sanctuary. New carpet was installed in August 2021 and we are preparing to renovate our stage in the spring of 2022. We currently have 100 black chairs but hope to purchase 150 more this year.  This project will move forward as donations come in to fund the purchasing of stage materials and chairs. If you would like to make a donation to purchase a chair or a few chairs you can donate by marking your envelope “Building Fund” or make a donation online by selecting “Building Fund”.Thank you for your support and we look forward to seeing you in one of these chairs soon.
URL:https://fbcpenticton.com/event/prayer-meeting-all-welcome/
LOCATION:First Baptist Church Meeting Room\, 1498 Government St.\, Penticton\, BC\, Canada
CATEGORIES:Current Events
ATTACH;FMTTYPE=image/jpeg:https://fbcpenticton.com/wp-content/uploads/2016/12/Prayer-e1482075739456.jpg
ORGANIZER;CN="Church Office":MAILTO:fbcpenticton@telus.net
END:VEVENT
END:VCALENDAR