BEGIN:VCALENDAR
VERSION:2.0
PRODID:-//First Baptist Church Penticton - ECPv6.2.3.1//NONSGML v1.0//EN
CALSCALE:GREGORIAN
METHOD:PUBLISH
X-ORIGINAL-URL:https://fbcpenticton.com
X-WR-CALDESC:Events for First Baptist Church Penticton
REFRESH-INTERVAL;VALUE=DURATION:PT1H
X-Robots-Tag:noindex
X-PUBLISHED-TTL:PT1H
BEGIN:VTIMEZONE
TZID:America/Vancouver
BEGIN:DAYLIGHT
TZOFFSETFROM:-0800
TZOFFSETTO:-0700
TZNAME:PDT
DTSTART:20260308T100000
END:DAYLIGHT
BEGIN:STANDARD
TZOFFSETFROM:-0700
TZOFFSETTO:-0800
TZNAME:PST
DTSTART:20261101T090000
END:STANDARD
END:VTIMEZONE
BEGIN:VEVENT
DTSTART;TZID=America/Vancouver:20260307T130000
DTEND;TZID=America/Vancouver:20260307T160000
DTSTAMP:20260425T191027
CREATED:20230206T171831Z
LAST-MODIFIED:20260203T221635Z
UID:3460-1772888400-1772899200@fbcpenticton.com
SUMMARY:Games Afternoon
DESCRIPTION:Grab a board game and some snacks and come have some fun at First Baptist Church. Doors will open at 1-4 pm\, by the sanctuary\, board games will be in the lounge. \n 
URL:https://fbcpenticton.com/event/family-games-night/
LOCATION:First Baptist Church\, 1498 Government Street\, Penticton\, BC\, Canada
CATEGORIES:Current Events
ATTACH;FMTTYPE=image/jpeg:https://fbcpenticton.com/wp-content/uploads/2023/02/105310-e1675703881196.jpg
END:VEVENT
BEGIN:VEVENT
DTSTART;TZID=America/Vancouver:20260403T100000
DTEND;TZID=America/Vancouver:20260403T113000
DTSTAMP:20260425T191027
CREATED:20250325T203725Z
LAST-MODIFIED:20260310T172304Z
UID:4280-1775210400-1775215800@fbcpenticton.com
SUMMARY:Good Friday Service
DESCRIPTION:We invite everyone out to a great time of community worship at the Penticton Trade and Convention Centre on April 3\, 10 am for our Good Friday Service. This is put on by the Penticton Ministerial Association. Come worship with us\, an offering will be collected to help cover the cost of this event and the summer Church in the Park. \n 
URL:https://fbcpenticton.com/event/good-friday-service-5/
CATEGORIES:Current Events
ATTACH;FMTTYPE=image/jpeg:https://fbcpenticton.com/wp-content/uploads/2025/03/Screenshot_25-2-2026_11855_.jpeg
END:VEVENT
BEGIN:VEVENT
DTSTART;TZID=America/Vancouver:20260406T130000
DTEND;TZID=America/Vancouver:20260406T143000
DTSTAMP:20260425T191027
CREATED:20240903T172731Z
LAST-MODIFIED:20260401T223403Z
UID:4082-1775480400-1775485800@fbcpenticton.com
SUMMARY:Ladies Bible Study
DESCRIPTION:Our ladies group will be meeting weekly. The in person group will meet at 1 pm in the Meeting Room.
URL:https://fbcpenticton.com/event/ladies-bible-study/
CATEGORIES:Current Events
ATTACH;FMTTYPE=image/jpeg:https://fbcpenticton.com/wp-content/uploads/2016/08/women-s-ministry-livingwayfontana-XPgeiu-clipart.jpg
END:VEVENT
BEGIN:VEVENT
DTSTART;TZID=America/Vancouver:20260424T190000
DTEND;TZID=America/Vancouver:20260424T203000
DTSTAMP:20260425T191027
CREATED:20240924T194035Z
LAST-MODIFIED:20260423T204002Z
UID:4101-1777057200-1777062600@fbcpenticton.com
SUMMARY:Young Life
DESCRIPTION:Young Life is for grade 9-12 students that are looking to connect with caring leaders\, have some fun and get to know a bit more about Jesus. \nWe will be meeting at 7-8:30 pm at the Ark Youth Centre at First Baptist Church. Bring a friend and enjoy some fun. \n  \n  \n 
URL:https://fbcpenticton.com/event/young-life/
CATEGORIES:Current Events
ATTACH;FMTTYPE=image/jpeg:https://fbcpenticton.com/wp-content/uploads/2024/09/Young-Life-Header.jpg
END:VEVENT
BEGIN:VEVENT
DTSTART;TZID=America/Vancouver:20260425T090000
DTEND;TZID=America/Vancouver:20260425T110000
DTSTAMP:20260425T191027
CREATED:20240903T172941Z
LAST-MODIFIED:20260401T223320Z
UID:4084-1777107600-1777114800@fbcpenticton.com
SUMMARY:Men's Breakfast
DESCRIPTION:We would love to invite the men out for breakfast at Shades on Main. We join in the back room for a light breakfast and great conversation.
URL:https://fbcpenticton.com/event/mens-breakfast-5/
CATEGORIES:Current Events
ATTACH;FMTTYPE=image/jpeg:https://fbcpenticton.com/wp-content/uploads/2023/09/118566-e1698779507722.jpg
END:VEVENT
BEGIN:VEVENT
DTSTART;TZID=America/Vancouver:20260502T090000
DTEND;TZID=America/Vancouver:20260502T103000
DTSTAMP:20260425T191027
CREATED:20230927T164704Z
LAST-MODIFIED:20260423T203946Z
UID:3771-1777712400-1777717800@fbcpenticton.com
SUMMARY:Men's Bible Study
DESCRIPTION:The men are meeting on Saturday mornings 9 am at the church for Bible Study and prayer time together. All men are welcome to come. \n 
URL:https://fbcpenticton.com/event/mens-bible-study/
LOCATION:First Baptist Church\, 1498 Government Street\, Penticton\, BC\, Canada
CATEGORIES:Current Events
ATTACH;FMTTYPE=image/jpeg:https://fbcpenticton.com/wp-content/uploads/2019/03/mensministry-title_web_960x540-940x529-e1552514979538.jpg
END:VEVENT
BEGIN:VEVENT
DTSTART;TZID=America/Vancouver:20260504T190000
DTEND;TZID=America/Vancouver:20260504T203000
DTSTAMP:20260425T191027
CREATED:20240924T194329Z
LAST-MODIFIED:20260423T203918Z
UID:4104-1777921200-1777926600@fbcpenticton.com
SUMMARY:Wyldlife
DESCRIPTION:Wyldlife is Back!!! \nWyldlife is for Middle School ages students that are looking to have a ton of fun\, be active and get to know some great leaders. Wyldlife meets in the Ark Youth Centre at First Baptist Church from 7-8:30 pm.
URL:https://fbcpenticton.com/event/wyldlife/
CATEGORIES:Current Events
ATTACH;FMTTYPE=image/jpeg:https://fbcpenticton.com/wp-content/uploads/2024/09/wyldlife-logo-e1727207001996.jpg
END:VEVENT
BEGIN:VEVENT
DTSTART;TZID=America/Vancouver:20260522T130000
DTEND;TZID=America/Vancouver:20260522T150000
DTSTAMP:20260425T191027
CREATED:20260423T204306Z
LAST-MODIFIED:20260423T204319Z
UID:4589-1779454800-1779462000@fbcpenticton.com
SUMMARY:Church Social
DESCRIPTION:The Deacons team are hosting a church social on May 22\, from 1 – 3 pm in the lounge area. We would love to see you out as we seek to connect or re-connect with people in the church.
URL:https://fbcpenticton.com/event/church-social/
CATEGORIES:Current Events
ATTACH;FMTTYPE=image/jpeg:https://fbcpenticton.com/wp-content/uploads/2025/10/58664_Gather_light_on_Blue_Plate-scaled.jpg
END:VEVENT
BEGIN:VEVENT
DTSTART;TZID=America/Vancouver:20260708T180000
DTEND;TZID=America/Vancouver:20260708T200000
DTSTAMP:20260425T191027
CREATED:20240612T191929Z
LAST-MODIFIED:20260423T204403Z
UID:4043-1783533600-1783540800@fbcpenticton.com
SUMMARY:Picnic in the Park
DESCRIPTION:We are ready for summer and to show it we are going to have a BBQ in the park every Wednesday in July and August. So\, bring a salad\, dessert or snack to share\, burgers and hotdogs will be provided. See you as Skaha Lake Picnic Area 6 pm. \n 
URL:https://fbcpenticton.com/event/picnic-in-the-park-4/
CATEGORIES:Current Events
ATTACH;FMTTYPE=image/jpeg:https://fbcpenticton.com/wp-content/uploads/2022/06/BBQ-e1748373490318.jpg
END:VEVENT
END:VCALENDAR